BEGIN:VCALENDAR
VERSION:2.0
PRODID:-//Plone.org//NONSGML plone.app.event//EN
X-WR-TIMEZONE:Brazil/East
BEGIN:VEVENT
SUMMARY:Sessão ordinária
DTSTART;TZID=Brazil/East;VALUE=DATE-TIME:20250829T190000
DTEND;TZID=Brazil/East;VALUE=DATE-TIME:20250829T200000
DTSTAMP;VALUE=DATE-TIME:20260421T042215Z
UID:30dc231769414029a1362598f6604a8c@www.muricidosportelas.pi.leg.br
CREATED;VALUE=DATE-TIME:20250829T020107Z
LAST-MODIFIED;VALUE=DATE-TIME:20250829T020113Z
LOCATION:Plenário da Câmara Municipal de Cocal
URL:https://www.muricidosportelas.pi.leg.br/imprensa/agenda-de-eventos/ses
 sao-ordinaria
END:VEVENT
BEGIN:VTIMEZONE
TZID:Brazil/East
X-LIC-LOCATION:Brazil/East
BEGIN:STANDARD
DTSTART;VALUE=DATE-TIME:20250215T230000
TZNAME:BRT
TZOFFSETFROM:-0200
TZOFFSETTO:-0300
END:STANDARD
END:VTIMEZONE
END:VCALENDAR
